BEGIN:VCALENDAR
VERSION:2.0
PRODID:-//https://gcarealtors.com//NONSGML kigkonsult.se iCalcreator 2.41.71//
CALSCALE:GREGORIAN
METHOD:PUBLISH
UID:62393364-3763-4238-b836-343461663438
X-WR-CALNAME:JCal Pro Calendar
X-WR-CALDESC:Your online events calendar
X-WR-TIMEZONE:America/New_York
BEGIN:VTIMEZONE
TZID:America/Chicago
TZUNTIL:20271107T070000Z
BEGIN:STANDARD
TZNAME:CST
DTSTART:20251102T020000
TZOFFSETFROM:-0500
TZOFFSETTO:-0600
RDATE:20261101T020000
END:STANDARD
BEGIN:DAYLIGHT
TZNAME:CDT
DTSTART:20260308T020000
TZOFFSETFROM:-0600
TZOFFSETTO:-0500
RDATE:20270314T020000
END:DAYLIGHT
END:VTIMEZONE
BEGIN:VTIMEZONE
TZID:America/New_York
TZUNTIL:20271107T060000Z
BEGIN:STANDARD
TZNAME:EST
DTSTART:20251102T020000
TZOFFSETFROM:-0400
TZOFFSETTO:-0500
RDATE:20261101T020000
END:STANDARD
BEGIN:DAYLIGHT
TZNAME:EDT
DTSTART:20260308T020000
TZOFFSETFROM:-0500
TZOFFSETTO:-0400
RDATE:20270314T020000
END:DAYLIGHT
END:VTIMEZONE
BEGIN:VEVENT
UID:20241008T070000UTC-3680ibrZhL@https://gcarealtors.com/
DTSTAMP:20260420T211101Z
CATEGORIES:Events
DTSTART;TZID=America/Chicago:20241106T070000
DTEND;TZID=America/Chicago:20241112T080000
SUMMARY:NAR NXT Convention and Expo- Boston
URL:https://gcarealtors.com/member-services-2/education/education-calendar-
 3/16-events-final/689-mar-convention-and-expo-tupelo-2
END:VEVENT
END:VCALENDAR
