BEGIN:VCALENDAR
VERSION:2.0
PRODID:-//https://gcarealtors.com//NONSGML kigkonsult.se iCalcreator 2.41.71//
CALSCALE:GREGORIAN
METHOD:PUBLISH
UID:66363239-3266-4338-b235-393266366334
X-WR-CALNAME:JCal Pro Calendar
X-WR-CALDESC:Your online events calendar
X-WR-TIMEZONE:America/New_York
BEGIN:VTIMEZONE
TZID:America/Chicago
TZUNTIL:20271107T070000Z
BEGIN:STANDARD
TZNAME:CST
DTSTART:20251102T020000
TZOFFSETFROM:-0500
TZOFFSETTO:-0600
RDATE:20261101T020000
END:STANDARD
BEGIN:DAYLIGHT
TZNAME:CDT
DTSTART:20260308T020000
TZOFFSETFROM:-0600
TZOFFSETTO:-0500
RDATE:20270314T020000
END:DAYLIGHT
END:VTIMEZONE
BEGIN:VTIMEZONE
TZID:America/New_York
TZUNTIL:20271107T060000Z
BEGIN:STANDARD
TZNAME:EST
DTSTART:20251102T020000
TZOFFSETFROM:-0400
TZOFFSETTO:-0500
RDATE:20261101T020000
END:STANDARD
BEGIN:DAYLIGHT
TZNAME:EDT
DTSTART:20260308T020000
TZOFFSETFROM:-0500
TZOFFSETTO:-0400
RDATE:20270314T020000
END:DAYLIGHT
END:VTIMEZONE
BEGIN:VEVENT
UID:20191211T080000CST-6836T1aAn0@https://gcarealtors.com/
DTSTAMP:20260421T210740Z
CATEGORIES:Classes
DESCRIPTION:<p>Basic Flex MLS Training</p>\n<p>Topics covered:</p>\n<ul>\n<
 li>How to sign in</li>\n<li>Setting up your personal dashboard</li>\n<li>A
 dding Contacts</li>\n<li>Setting up notification notices for expiring list
 ings</li>\n<li>Adding Listings</li>\n<li>Auto Notifcations</li>\n<li>and M
 ore!</li>\n</ul>\n<p>Class begins at 9am at The REALTOR® Building</p>\n<p>
 Registration is free and for all members.</p>\n<p><a href='https://mglf.ra
 pams.com/scripts/mgrqispi.dll?APPNAME=IMS&amp\;PRGNAME=IMSMemberLoginCooki
 e&amp\;ARGUMENTS=-AGCAR&amp\;SessionType=N&amp\;ServiceName=REGE&amp\;Clas
 sID=MLS0120'>Click Here To Register&nbsp\;</a></p>
DTSTART;TZID=America/Chicago:20200115T080000
DTEND;TZID=America/Chicago:20200115T100000
SUMMARY:MLS Basic Training
URL:https://gcarealtors.com/jcal-fix/8-classes/404-mls-basic-training-2
X-ALT-DESC;FMTTYPE=TEXT/HTML:<p>Basic Flex MLS Training</p>\n<p>Topics cove
 red:</p>\n<ul>\n<li>How to sign in</li>\n<li>Setting up your personal dash
 board</li>\n<li>Adding Contacts</li>\n<li>Setting up notification notices 
 for expiring listings</li>\n<li>Adding Listings</li>\n<li>Auto Notifcation
 s</li>\n<li>and More!</li>\n</ul>\n<p>Class begins at 9am at The REALTOR® 
 Building</p>\n<p>Registration is free and for all members.</p>\n<p><a href
 ='https://mglf.rapams.com/scripts/mgrqispi.dll?APPNAME=IMS&amp\;PRGNAME=IM
 SMemberLoginCookie&amp\;ARGUMENTS=-AGCAR&amp\;SessionType=N&amp\;ServiceNa
 me=REGE&amp\;ClassID=MLS0120'>Click Here To Register&nbsp\;</a></p>
END:VEVENT
END:VCALENDAR
