BEGIN:VCALENDAR
VERSION:2.0
PRODID:-//https://gcarealtors.com//NONSGML kigkonsult.se iCalcreator 2.41.71//
CALSCALE:GREGORIAN
METHOD:PUBLISH
UID:61353265-6134-4263-a533-363235326136
X-WR-CALNAME:JCal Pro Calendar
X-WR-CALDESC:Your online events calendar
X-WR-TIMEZONE:America/New_York
BEGIN:VTIMEZONE
TZID:America/Chicago
TZUNTIL:20271107T070000Z
BEGIN:STANDARD
TZNAME:CST
DTSTART:20251102T020000
TZOFFSETFROM:-0500
TZOFFSETTO:-0600
RDATE:20261101T020000
END:STANDARD
BEGIN:DAYLIGHT
TZNAME:CDT
DTSTART:20260308T020000
TZOFFSETFROM:-0600
TZOFFSETTO:-0500
RDATE:20270314T020000
END:DAYLIGHT
END:VTIMEZONE
BEGIN:VTIMEZONE
TZID:America/New_York
TZUNTIL:20271107T060000Z
BEGIN:STANDARD
TZNAME:EST
DTSTART:20251102T020000
TZOFFSETFROM:-0400
TZOFFSETTO:-0500
RDATE:20261101T020000
END:STANDARD
BEGIN:DAYLIGHT
TZNAME:EDT
DTSTART:20260308T020000
TZOFFSETFROM:-0500
TZOFFSETTO:-0400
RDATE:20270314T020000
END:DAYLIGHT
END:VTIMEZONE
BEGIN:VEVENT
UID:20200123T083000CST-0382tZA25s@https://gcarealtors.com/
DTSTAMP:20260420T140604Z
CATEGORIES:Meeting
DESCRIPTION:<div align='center'><strong>Get Involved in 2020&nbsp\;</strong
 ></div>\n<div align='center'>&nbsp\;</div>\n<div>Interested in serving on 
 GCAR work groups this year? Be sure to mark your calendar for these upcomi
 ng work group meetings! All GCAR REALTORS® and affiliates are welcome to s
 erve on work groups and attend meetings. In addition to these meetings\, t
 here will be other opportunities to get involved throughout the year.&nbsp
 \;All meetings will be held at the REALTOR® Building.</div>\n<div>&nbsp\;<
 /div>\n<div>\n<p><strong>Beer and Wine Festival Work Group</strong></p>\n<
 p>Volunteers need to: Plan event\, secure sponsorships\, secure vendors\, 
 volunteer at the event\, secure raffle items and promote event and sell ti
 ckets.&nbsp\;Event is tentatively scheduled for April 14\, 2020.</p>\n<p>F
 irst meeting: Tuesday\, February 4 at 9:30am</p>\n</div>
DTSTART;TZID=America/Chicago:20200204T083000
DTEND;TZID=America/Chicago:20200204T093000
SUMMARY:Beer and Wine Festival Work Group Meeting- Open to all members
URL:https://gcarealtors.com/jcal-fix/17-meeting/428-lunch-and-learns-work-g
 roup-meeting-open-to-all-members-3
X-ALT-DESC;FMTTYPE=TEXT/HTML:<div align='center'><strong>Get Involved in 20
 20&nbsp\;</strong></div>\n<div align='center'>&nbsp\;</div>\n<div>Interest
 ed in serving on GCAR work groups this year? Be sure to mark your calendar
  for these upcoming work group meetings! All GCAR REALTORS® and affiliates
  are welcome to serve on work groups and attend meetings. In addition to t
 hese meetings\, there will be other opportunities to get involved througho
 ut the year.&nbsp\;All meetings will be held at the REALTOR® Building.</di
 v>\n<div>&nbsp\;</div>\n<div>\n<p><strong>Beer and Wine Festival Work Grou
 p</strong></p>\n<p>Volunteers need to: Plan event\, secure sponsorships\, 
 secure vendors\, volunteer at the event\, secure raffle items and promote 
 event and sell tickets.&nbsp\;Event is tentatively scheduled for April 14\
 , 2020.</p>\n<p>First meeting: Tuesday\, February 4 at 9:30am</p>\n</div>
END:VEVENT
END:VCALENDAR
